BEGIN:VCALENDAR
VERSION:2.0
PRODID:-//ActiveBury//Events//EN
CALSCALE:GREGORIAN
BEGIN:VEVENT
UID:event-1031@activebury.com
DTSTAMP:20260425T133428Z
SUMMARY:Tween Zone
DTSTART:20260108T173000
DTEND:20260108T190000
LOCATION:Central Branch Denton
DESCRIPTION:Soapy Shenanigans!\nMore info: https://carolinecounty.librarycalendar.com/event/tween-zone-2138\nActiveBury: https://www.activebury.com/events/1031
URL:https://www.activebury.com/events/1031
END:VEVENT
END:VCALENDAR
