BEGIN:VCALENDAR
VERSION:2.0
PRODID:-//ActiveBury//Events//EN
CALSCALE:GREGORIAN
BEGIN:VEVENT
UID:event-1030@activebury.com
DTSTAMP:20260425T163908Z
SUMMARY:Cake: A Galentine’s Party
DTSTART:20260213T170000
DTEND:20260213T200000
LOCATION:The Buzzed Word
DESCRIPTION:More info: https://e0e0056a0664bc7c314b.cdn6.editmysite.com/uploads/b/e0e0056a0664bc7c314bf8321b9665da14e22d3e03877f\nActiveBury: https://www.activebury.com/events/1030
URL:https://www.activebury.com/events/1030
END:VEVENT
END:VCALENDAR
