BEGIN:VCALENDAR
VERSION:2.0
PRODID:-//ActiveBury//Events//EN
CALSCALE:GREGORIAN
BEGIN:VEVENT
UID:event-1027@activebury.com
DTSTAMP:20260425T142925Z
SUMMARY:Quarterly Classic Book Club
DTSTART:20260204T180000
LOCATION:The Buzzed Word
DESCRIPTION:Quarterly Classic Book Club (6pm)\nMore info: https://e0e0056a0664bc7c314b.cdn6.editmysite.com/uploads/b/e0e0056a0664bc7c314bf8321b9665da14e22d3e03877f83561e5a92d05edaa3/BUZZ-CAL-FEB_1767551983.png\nActiveBury: https://www.activebury.com/events/1027
URL:https://www.activebury.com/events/1027
END:VEVENT
END:VCALENDAR
