BEGIN:VCALENDAR
VERSION:2.0
PRODID:-//ActiveBury//Events//EN
CALSCALE:GREGORIAN
BEGIN:VEVENT
UID:event-1026@activebury.com
DTSTAMP:20260425T133955Z
SUMMARY:Movie Monday (TBD)
DTSTART:20260202T180000
LOCATION:The Buzzed Word
DESCRIPTION:Movie Monday – film TBD (6pm)\nMore info: https://e0e0056a0664bc7c314b.cdn6.editmysite.com/uploads/b/e0e0056a0664bc7c314bf8321b9665da14e22d3e03877f83561e5a92d05edaa3/BUZZ-CAL-FEB_1767551983.png\nActiveBury: https://www.activebury.com/events/1026
URL:https://www.activebury.com/events/1026
END:VEVENT
END:VCALENDAR
