BEGIN:VCALENDAR
VERSION:2.0
PRODID:-//ActiveBury//Events//EN
CALSCALE:GREGORIAN
BEGIN:VEVENT
UID:event-1023@activebury.com
DTSTAMP:20260425T134000Z
SUMMARY:Movie Monday: Andrea Gibson – Come See Me In The Good Light
DTSTART:20260126T180000
LOCATION:The Buzzed Word
DESCRIPTION:Movie Monday: Andrea Gibson – Come See Me In The Good Light (6pm)\nMore info: https://e0e0056a0664bc7c314b.cdn6.editmysite.com/uploads/b/e0e0056a0664bc7c314bf8321b9665da14e22d3e03877f83561e5a92d05edaa3/BUZZ-CAL-JAN_1767551675.png?width=2400&optimize=medium\nActiveBury: https://www.activebury.com/events/1023
URL:https://www.activebury.com/events/1023
END:VEVENT
END:VCALENDAR
