BEGIN:VCALENDAR
VERSION:2.0
PRODID:-//ActiveBury//Events//EN
CALSCALE:GREGORIAN
BEGIN:VEVENT
UID:event-1021@activebury.com
DTSTAMP:20260425T153326Z
SUMMARY:Supper Club w/ Toby Gilbert
DTSTART:20260119T170000
DTEND:20260119T190000
LOCATION:The Buzzed Word
DESCRIPTION:Supper Club w/ Toby Gilbert (5pm & 7pm)\nMore info: https://e0e0056a0664bc7c314b.cdn6.editmysite.com/uploads/b/e0e0056a0664bc7c314bf8321b9665da14e22d3e03877f83561e5a92d05edaa3/BUZZ-CAL-JAN_1767551675.png?width=2400&optimize=medium\nActiveBury: https://www.activebury.com/events/1021
URL:https://www.activebury.com/events/1021
END:VEVENT
END:VCALENDAR
