BEGIN:VCALENDAR
VERSION:2.0
PRODID:-//ActiveBury//Events//EN
CALSCALE:GREGORIAN
BEGIN:VEVENT
UID:event-1015@activebury.com
DTSTAMP:20260425T133413Z
SUMMARY:WEDNESDAY
DTSTART:20260114T160000
LOCATION:Princess Anne
DESCRIPTION:PRINCESS ANNE: WEDNESDAY\, JANUARY 14TH AT 4PM\nMore info: https://drive.google.com/file/d/1zZqzELj_ZR73Axbn27gdjOUi8Qkv_iL5/view?usp=sharing\nActiveBury: https://www.activebury.com/events/1015
URL:https://www.activebury.com/events/1015
END:VEVENT
END:VCALENDAR
