BEGIN:VCALENDAR
VERSION:2.0
PRODID:-//ActiveBury//Events//EN
CALSCALE:GREGORIAN
BEGIN:VEVENT
UID:event-1013@activebury.com
DTSTAMP:20260425T154108Z
SUMMARY:Follow us on Facebook for more! Show us your art\, writing\, photography
DTSTART:20260110T110000
DTEND:20260110T140000
LOCATION:Princess Anne
DESCRIPTION:\, recipes\, & other things you ’ ve made. Submit your entries to lcrockett@somelibrary.org Visit our different displays each month in the Princess Anne Library meeting room. Brought to you by the Somerset County Arts Council. Sign up by visiting the Crisfield or Princess Anne Library. Read 500 books to your little one by the time they turn five and win prizes along the way! Visit somelibrary .org/zines/php to see our previous Zines/ Winter Wellness Carnival Families are welcome to join us for free vision and hearing tests\, nutrition and fitness information\, healthy snacks\, crafts\, giveaways and much more provided by local partnerships and organizations. Presented by the Crisfield Lioness Club. SATURDAY\, JANUARY 10 TH 11AM -2PM AT THE CRISFIELD LIB RARY January Crisfield in italics Princess Anne in bold MONDAY TUESDAY WEDNESDAY THURSDAY FRIDAY SATURDAY 1 Closed for New Year’s Day 2 3 Lego Club (both Branches) – 2-4 5 Toddler Art Class – 10:30\nMore info: https://drive.google.com/file/d/1zZqzELj_ZR73Axbn27gdjOUi8Qkv_iL5/view?usp=sharing\nActiveBury: https://www.activebury.com/events/1013
URL:https://www.activebury.com/events/1013
END:VEVENT
END:VCALENDAR
