BEGIN:VCALENDAR
VERSION:2.0
PRODID:-//ActiveBury//Events//EN
CALSCALE:GREGORIAN
BEGIN:VEVENT
UID:event-1012@activebury.com
DTSTAMP:20260425T133817Z
SUMMARY:iPHONE/ iPAD BASICS CRISFIELD Saturday
DTSTART:20260131T110000
LOCATION:Crisfield
DESCRIPTION:\, January 31st at 11am Need help with your iPhone or iPad? Do you have a new iPhone or iPad and need help? Join us as we learn the basics about iPhones and iPads. Registration required.\nMore info: https://drive.google.com/file/d/1zZqzELj_ZR73Axbn27gdjOUi8Qkv_iL5/view?usp=sharing\nActiveBury: https://www.activebury.com/events/1012
URL:https://www.activebury.com/events/1012
END:VEVENT
END:VCALENDAR
