BEGIN:VCALENDAR
VERSION:2.0
PRODID:-//ActiveBury//Events//EN
CALSCALE:GREGORIAN
BEGIN:VEVENT
UID:event-1011@activebury.com
DTSTAMP:20260425T134530Z
SUMMARY:WINTER SCENE SHAKER BOX Use a clear plastic box and a winter
DTSTART:20260128T110000
LOCATION:Princess Anne
DESCRIPTION:scene print out to make a cute shadow box winter scene. Add some faux snow and watch it snow when you shake it. 3D PRINTING WORKSHOP PRINCESS ANNE Wednesday\, January 28th at 11am Learn about the different types of 3D printing. Discover where to find free files to print and even create your own!\nMore info: https://drive.google.com/file/d/1zZqzELj_ZR73Axbn27gdjOUi8Qkv_iL5/view?usp=sharing\nActiveBury: https://www.activebury.com/events/1011
URL:https://www.activebury.com/events/1011
END:VEVENT
END:VCALENDAR
