BEGIN:VCALENDAR
VERSION:2.0
PRODID:-//ActiveBury//Events//EN
CALSCALE:GREGORIAN
BEGIN:VEVENT
UID:event-1009@activebury.com
DTSTAMP:20260425T182855Z
SUMMARY:iPHONE/ iPAD BASICS PRINCESS ANNE Tuesday
DTSTART:20260127T110000
LOCATION:Princess Anne
DESCRIPTION:\, January 27th at 11am Need help with your iPhone or iPad? Do you have a new iPhone or iPad and need help? Join us as we learn the basics about iPhones and iPads. Registration required.\nMore info: https://drive.google.com/file/d/1zZqzELj_ZR73Axbn27gdjOUi8Qkv_iL5/view?usp=sharing\nActiveBury: https://www.activebury.com/events/1009
URL:https://www.activebury.com/events/1009
END:VEVENT
END:VCALENDAR
