BEGIN:VCALENDAR
VERSION:2.0
PRODID:-//ActiveBury//Events//EN
CALSCALE:GREGORIAN
BEGIN:VEVENT
UID:event-1007@activebury.com
DTSTAMP:20260425T133746Z
SUMMARY:ONE-ON-ONE JOB HELP CRISFIELD Thursday
DTSTART;VALUE=DATE:20260122
DTEND;VALUE=DATE:20260123
LOCATION:Crisfield
DESCRIPTION:\, January 22nd Need help with writing your resume\, finding job resources\, or job interview skills? Stop by or call the library to register for your one -on-one time slot.\nMore info: https://drive.google.com/file/d/1zZqzELj_ZR73Axbn27gdjOUi8Qkv_iL5/view?usp=sharing\nActiveBury: https://www.activebury.com/events/1007
URL:https://www.activebury.com/events/1007
END:VEVENT
END:VCALENDAR
