BEGIN:VCALENDAR
VERSION:2.0
PRODID:-//ActiveBury//Events//EN
CALSCALE:GREGORIAN
BEGIN:VEVENT
UID:event-1006@activebury.com
DTSTAMP:20260425T154123Z
SUMMARY:BOOK DISCUSSION PRINCESS ANNE Wednesday
DTSTART:20260121T140000
LOCATION:Princess Anne
DESCRIPTION:\, January 21st at 2pm Join us as we discuss The Maid by Nita Prose. Copies will be available at the circulation desk.\nMore info: https://drive.google.com/file/d/1zZqzELj_ZR73Axbn27gdjOUi8Qkv_iL5/view?usp=sharing\nActiveBury: https://www.activebury.com/events/1006
URL:https://www.activebury.com/events/1006
END:VEVENT
END:VCALENDAR
