BEGIN:VCALENDAR
VERSION:2.0
PRODID:-//ActiveBury//Events//EN
CALSCALE:GREGORIAN
BEGIN:VEVENT
UID:event-1005@activebury.com
DTSTAMP:20260425T134520Z
SUMMARY:ONE-ON-ONE JOB HELP PRINCESS ANNE Wednesday
DTSTART;VALUE=DATE:20260121
DTEND;VALUE=DATE:20260122
LOCATION:Princess Anne
DESCRIPTION:\, January 21st Need help with writing your resume\, finding job resources\, or job interview skills? Stop by or call the library to register for a one -on-one time slot.\nMore info: https://drive.google.com/file/d/1zZqzELj_ZR73Axbn27gdjOUi8Qkv_iL5/view?usp=sharing\nActiveBury: https://www.activebury.com/events/1005
URL:https://www.activebury.com/events/1005
END:VEVENT
END:VCALENDAR
