BEGIN:VCALENDAR
VERSION:2.0
PRODID:-//ActiveBury//Events//EN
CALSCALE:GREGORIAN
BEGIN:VEVENT
UID:event-1004@activebury.com
DTSTAMP:20260425T133305Z
SUMMARY:ANDROID BASICS PRINCESS ANNE Tuesday
DTSTART:20260120T110000
LOCATION:Princess Anne
DESCRIPTION:\, January 20th at 11am Need help with your Android phone or tablet? Do you have a new Android phone or tablet and need help? Join us as we learn about the basics about Android phones and tablets. Registration required.\nMore info: https://drive.google.com/file/d/1zZqzELj_ZR73Axbn27gdjOUi8Qkv_iL5/view?usp=sharing\nActiveBury: https://www.activebury.com/events/1004
URL:https://www.activebury.com/events/1004
END:VEVENT
END:VCALENDAR
