BEGIN:VCALENDAR
VERSION:2.0
PRODID:-//ActiveBury//Events//EN
CALSCALE:GREGORIAN
BEGIN:VEVENT
UID:event-1003@activebury.com
DTSTAMP:20260425T133305Z
SUMMARY:ANDROID BASICS CRISFIELD Saturday
DTSTART:20260117T110000
LOCATION:Crisfield
DESCRIPTION:\, January 17th at 11am Need help with your Android phone or tablet? Do you have a new Android phone or tablet and need help? Join us as we learn the basics about Android phones and tablets. Registration required.\nMore info: https://drive.google.com/file/d/1zZqzELj_ZR73Axbn27gdjOUi8Qkv_iL5/view?usp=sharing\nActiveBury: https://www.activebury.com/events/1003
URL:https://www.activebury.com/events/1003
END:VEVENT
END:VCALENDAR
