BEGIN:VCALENDAR
VERSION:2.0
PRODID:-//ActiveBury//Events//EN
CALSCALE:GREGORIAN
BEGIN:VEVENT
UID:event-1002@activebury.com
DTSTAMP:20260425T133816Z
SUMMARY:FRAME ORGANIZER PRINCESS ANNE Wednesday
DTSTART:20260114T110000
LOCATION:Princess Anne
DESCRIPTION:\, January 14th at 11am Turn an ordinary frame into a useful organizer. Great for sorting mail\, bills\, craft ideas\, and so much more. Registration required.\nMore info: https://drive.google.com/file/d/1zZqzELj_ZR73Axbn27gdjOUi8Qkv_iL5/view?usp=sharing\nActiveBury: https://www.activebury.com/events/1002
URL:https://www.activebury.com/events/1002
END:VEVENT
END:VCALENDAR
