BEGIN:VCALENDAR
VERSION:2.0
PRODID:-//ActiveBury//Events//EN
CALSCALE:GREGORIAN
BEGIN:VEVENT
UID:event-1001@activebury.com
DTSTAMP:20260425T133907Z
SUMMARY:HEROES\, HEROINES & H ANGOUTS: FANTASY BOOK CLUB PRINCESS ANNE Tuesday
DTSTART:20260113T173000
LOCATION:Princess Anne
DESCRIPTION:\, January 13th at 5:30pm Do you like all things magical and mystical? This month we will be delving into The Ten Thousand Doors of January by Alix E. Harrow.\nMore info: https://drive.google.com/file/d/1zZqzELj_ZR73Axbn27gdjOUi8Qkv_iL5/view?usp=sharing\nActiveBury: https://www.activebury.com/events/1001
URL:https://www.activebury.com/events/1001
END:VEVENT
END:VCALENDAR
