BEGIN:VCALENDAR
VERSION:2.0
PRODID:-//ActiveBury//Events//EN
CALSCALE:GREGORIAN
BEGIN:VEVENT
UID:event-1000@activebury.com
DTSTAMP:20260425T142335Z
SUMMARY:FRAME ORGANIZER CRISFIELD Monday
DTSTART:20260112T110000
LOCATION:Crisfield
DESCRIPTION:\, January 12th at 11am Turn an ordinary frame into a useful organizer. Great for sorting mail\, bills\, craft ideas\, and so much more. Registration required.\nMore info: https://drive.google.com/file/d/1zZqzELj_ZR73Axbn27gdjOUi8Qkv_iL5/view?usp=sharing\nActiveBury: https://www.activebury.com/events/1000
URL:https://www.activebury.com/events/1000
END:VEVENT
END:VCALENDAR
