BEGIN:VCALENDAR
VERSION:2.0
PRODID:-//ActiveBury//Events//EN
CALSCALE:GREGORIAN
BEGIN:VEVENT
UID:event-100@activebury.com
DTSTAMP:20260425T133331Z
SUMMARY:Over 30 Pickup Soccer
DTSTART:20260115T200000
DTEND:20260115T220000
LOCATION:Crown Sports Center
DESCRIPTION:Pickup soccer. $10 to play\, come early!\nMore info: playatcrown.com/adult-sports/\nActiveBury: https://www.activebury.com/events/100
URL:https://www.activebury.com/events/100
END:VEVENT
END:VCALENDAR
