BEGIN:VCALENDAR
VERSION:2.0
PRODID:-//ActiveBury//Events//EN
CALSCALE:GREGORIAN
BEGIN:VEVENT
UID:event-1@activebury.com
DTSTAMP:20260425T134256Z
SUMMARY:Hot Chocolate 5K in City Park
DTSTART;VALUE=DATE:20260101
DTEND;VALUE=DATE:20260102
LOCATION:Downtown Salisbury
DESCRIPTION:More info: https://www.mindsinmotionsby.org/2025/11/15/hot-chocolate-5k-in-2026/\nActiveBury: https://www.activebury.com/events/1
URL:https://www.activebury.com/events/1
END:VEVENT
END:VCALENDAR
